BEGIN:VCALENDAR
VERSION:2.0
PRODID:-//Hub da Gestão - ECPv6.8.2.1//NONSGML v1.0//EN
CALSCALE:GREGORIAN
METHOD:PUBLISH
X-WR-CALNAME:Hub da Gestão
X-ORIGINAL-URL:https://www.hubdagestao.com.br
X-WR-CALDESC:Eventos para Hub da Gestão
REFRESH-INTERVAL;VALUE=DURATION:PT1H
X-Robots-Tag:noindex
X-PUBLISHED-TTL:PT1H
BEGIN:VTIMEZONE
TZID:America/Sao_Paulo
BEGIN:STANDARD
TZOFFSETFROM:-0300
TZOFFSETTO:-0300
TZNAME:-03
DTSTART:20260101T000000
END:STANDARD
END:VTIMEZONE
BEGIN:VEVENT
DTSTART;TZID=America/Sao_Paulo:20260429T190000
DTEND;TZID=America/Sao_Paulo:20260429T203000
DTSTAMP:20260421T064430
CREATED:20260420T135652Z
LAST-MODIFIED:20260420T135652Z
UID:6893-1777489200-1777494600@www.hubdagestao.com.br
SUMMARY:O que a sua empresa precisa considerar em relação à Reforma Tributária?
DESCRIPTION: Reforma Tributária: sua empresa já entendeu o que realmente precisa mudar? \nNo último encontro\, mostramos que a Reforma Tributária vai muito além da apuração de impostos.\nMas agora vem a pergunta mais importante: \n O que\, de fato\, sua empresa precisa considerar para se adaptar? \nA resposta passa por uma visão mais ampla e integrada do negócio — envolvendo decisões que impactam diretamente sua competitividade. \nNeste novo webinar\, vamos aprofundar temas essenciais como:\n• estratégia e posicionamento competitivo\n• estrutura de custos e geração de caixa\n• cadeia de valor e modelo comercial\n• governança e gestão de riscos \n Tema: O que a sua empresa precisa considerar em relação à Reforma Tributária? \n 29 de abril de 2026\n 19h\n Evento online e gratuito \n Palestrante: Marcio Motter\nExecutivo com mais de 25 anos de experiência em áreas estratégicas\, especialista em finanças\, governança e conselhos. \n Moderador: Pedro Ivanow\nBoard Member\, palestrante e ex-Sócio Diretor da Euax e ex-Superintendente do Banco Itaú\, com forte atuação em gestão e estratégia empresarial. \n Se você participa das decisões estratégicas da sua empresa\, este conteúdo é essencial. \n Garanta sua vaga:\nhttps://www.hubdagestao.com.br/webinar
URL:https://www.hubdagestao.com.br/event/o-que-a-sua-empresa-precisa-considerar-em-relacao-a-reforma-tributaria/
END:VEVENT
END:VCALENDAR